BEGIN:VCALENDAR
VERSION:2.0
PRODID:-//wp-events-plugin.com//7.2.3.1//EN
TZID:America/New_York
X-WR-TIMEZONE:America/New_York
BEGIN:VEVENT
UID:7838@saintpanteleimonskete.com
DTSTART;TZID=America/New_York:20250423T180000
DTEND;TZID=America/New_York:20250423T190000
DTSTAMP:20250423T040811Z
URL:https://saintpanteleimonskete.com/events/vespers-2025-04-23/
SUMMARY:Vespers
DESCRIPTION:Join us each evening for Vespers\, the peaceful and reflective 
 service marking the close of the day. Rooted in ancient Orthodox tradition
 \, Vespers includes psalms\, hymns\, and prayers that lift our hearts in t
 hanksgiving and prepare us for rest in God’s grace. Visitors and faithfu
 l alike are welcome.
LOCATION:Saint Panteleimon Skete\, 7650 Lyons Rd\, Coconut Creek\, FL\, 330
 73\, Broward County\, United States
X-APPLE-STRUCTURED-LOCATION;VALUE=URI;X-ADDRESS=7650 Lyons Rd\, Coconut Cre
 ek\, FL\, 33073\, Broward County\, United States;X-APPLE-RADIUS=100;X-TITL
 E=Saint Panteleimon Skete:geo:0,0
END:VEVENT
BEGIN:VTIMEZONE
TZID:America/New_York
X-LIC-LOCATION:America/New_York
BEGIN:DAYLIGHT
DTSTART:20250309T030000
TZOFFSETFROM:-0500
TZOFFSETTO:-0400
TZNAME:EDT
END:DAYLIGHT
END:VTIMEZONE
END:VCALENDAR