BEGIN:VCALENDAR
VERSION:2.0
PRODID:-//wp-events-plugin.com//7.2.3.1//EN
TZID:America/New_York
X-WR-TIMEZONE:America/New_York
BEGIN:VEVENT
UID:17739@saintpanteleimonskete.com
DTSTART;TZID=America/New_York:20270101T180000
DTEND;TZID=America/New_York:20270101T190000
DTSTAMP:20260221T001000Z
URL:https://saintpanteleimonskete.com/events/vespers-2-2027-01-01/
SUMMARY:Vespers
DESCRIPTION:Join us for the evening service of Vespers\, a quiet and prayer
 ful entry into the liturgical day. Held in the stillness of the chapel\, V
 espers marks the transition from day to night\, offering thanksgiving\, re
 pentance\, and spiritual rest.\nRooted in the ancient tradition of the Chu
 rch\, the service includes psalms\, hymns\, incense\, and readings that dr
 aw the heart toward Christ. Visitors and pilgrims are welcome to attend an
 d experience the beauty of Orthodox evening prayer.\nVespers is held every
  night except Sunday.
LOCATION:Saint Panteleimon Skete\, 7650 Lyons Rd\, Coconut Creek\, FL\, 330
 73\, Broward County\, United States
X-APPLE-STRUCTURED-LOCATION;VALUE=URI;X-ADDRESS=7650 Lyons Rd\, Coconut Cre
 ek\, FL\, 33073\, Broward County\, United States;X-APPLE-RADIUS=100;X-TITL
 E=Saint Panteleimon Skete:geo:0,0
END:VEVENT
BEGIN:VTIMEZONE
TZID:America/New_York
X-LIC-LOCATION:America/New_York
BEGIN:STANDARD
DTSTART:20261101T010000
TZOFFSETFROM:-0400
TZOFFSETTO:-0500
TZNAME:EST
END:STANDARD
END:VTIMEZONE
END:VCALENDAR