BEGIN:VCALENDAR
VERSION:2.0
PRODID:-//wp-events-plugin.com//7.2.3.1//EN
TZID:America/New_York
X-WR-TIMEZONE:America/New_York
BEGIN:VEVENT
UID:17445@saintpanteleimonskete.com
DTSTART;TZID=America/New_York:20260313T180000
DTEND;TZID=America/New_York:20260313T193000
DTSTAMP:20260307T191557Z
URL:https://saintpanteleimonskete.com/events/vespers-2-2026-03-13/
SUMMARY:Presanctified Liturgy
DESCRIPTION:&nbsp\;\n\nThe Liturgy of the Presanctified Gifts is a solemn\,
  evening Lenten service in the Byzantine Rite (Orthodox and Eastern Cathol
 ic) where Holy Communion is distributed from gifts sanctified at a previou
 s Sunday's Divine Liturgy. It combines vespers with communion\, allowing f
 aithful to receive the Eucharist on weekdays without the festive\, non-fas
 ting nature of a full Divine Liturgy.
LOCATION:Saint Panteleimon Skete\, 7650 Lyons Rd\, Coconut Creek\, FL\, 330
 73\, Broward County\, United States
X-APPLE-STRUCTURED-LOCATION;VALUE=URI;X-ADDRESS=7650 Lyons Rd\, Coconut Cre
 ek\, FL\, 33073\, Broward County\, United States;X-APPLE-RADIUS=100;X-TITL
 E=Saint Panteleimon Skete:geo:0,0
END:VEVENT
BEGIN:VTIMEZONE
TZID:America/New_York
X-LIC-LOCATION:America/New_York
BEGIN:DAYLIGHT
DTSTART:20260308T030000
TZOFFSETFROM:-0500
TZOFFSETTO:-0400
TZNAME:EDT
END:DAYLIGHT
END:VTIMEZONE
END:VCALENDAR