BEGIN:VCALENDAR
VERSION:2.0
PRODID:-//wp-events-plugin.com//7.2.3.1//EN
TZID:America/New_York
X-WR-TIMEZONE:America/New_York
BEGIN:VEVENT
UID:8500@saintpanteleimonskete.com
DTSTART;TZID=America/New_York:20270105T090000
DTEND;TZID=America/New_York:20270105T100000
DTSTAMP:20260221T000856Z
URL:https://saintpanteleimonskete.com/events/matins-2027-01-05/
SUMMARY:Matins
DESCRIPTION:Join us each morning for Matins\, the traditional Orthodox serv
 ice of morning prayer and psalmody. This contemplative service prepares ou
 r hearts for the day ahead through Scripture readings\, hymns\, and suppli
 cation. All are welcome to attend and begin the day in prayerful stillness
  before the Lord.\n\nMatins is held every day except Mondays.
LOCATION:Saint Panteleimon Skete\, 7650 Lyons Rd\, Coconut Creek\, FL\, 330
 73\, Broward County\, United States
X-APPLE-STRUCTURED-LOCATION;VALUE=URI;X-ADDRESS=7650 Lyons Rd\, Coconut Cre
 ek\, FL\, 33073\, Broward County\, United States;X-APPLE-RADIUS=100;X-TITL
 E=Saint Panteleimon Skete:geo:0,0
END:VEVENT
BEGIN:VTIMEZONE
TZID:America/New_York
X-LIC-LOCATION:America/New_York
BEGIN:STANDARD
DTSTART:20261101T010000
TZOFFSETFROM:-0400
TZOFFSETTO:-0500
TZNAME:EST
END:STANDARD
END:VTIMEZONE
END:VCALENDAR