BEGIN:VCALENDAR
VERSION:2.0
PRODID:-//wp-events-plugin.com//7.2.3.1//EN
TZID:America/New_York
X-WR-TIMEZONE:America/New_York
BEGIN:VEVENT
UID:17047@saintpanteleimonskete.com
DTSTART;TZID=America/New_York:20251204T191500
DTEND;TZID=America/New_York:20251204T203000
DTSTAMP:20250515T140241Z
URL:https://saintpanteleimonskete.com/events/live-class-2025-12-04/
SUMMARY:Live Class
DESCRIPTION:With the blessing of our Bishop we've created a weekly class to
  help share the Orthodox faith with Inquirers\, Catechumen\, and Communica
 nts. While we live stream these classes on YouTube as a resource for all\,
  we encourage anyone to attend the live filming. We typically have three m
 embers of clergy in attendance and the class is guided by a knowledgable a
 nd well-read member of our Parish.\n\n&nbsp\;\nClass Panelists:\nModerator
 : Sean\n\nClergy: Father Deacon Stefan\, Father Nathan\, Father Maximos.\n
 \n&nbsp\;\n\nIf you cannot attend live\, please join us in our digital str
 eam here: https://www.youtube.com/@saintmaximossociety
LOCATION:Saint Panteleimon Skete\, 7650 Lyons Rd\, Coconut Creek\, FL\, 330
 73\, Broward County\, United States
X-APPLE-STRUCTURED-LOCATION;VALUE=URI;X-ADDRESS=7650 Lyons Rd\, Coconut Cre
 ek\, FL\, 33073\, Broward County\, United States;X-APPLE-RADIUS=100;X-TITL
 E=Saint Panteleimon Skete:geo:0,0
END:VEVENT
BEGIN:VTIMEZONE
TZID:America/New_York
X-LIC-LOCATION:America/New_York
BEGIN:STANDARD
DTSTART:20251102T010000
TZOFFSETFROM:-0400
TZOFFSETTO:-0500
TZNAME:EST
END:STANDARD
END:VTIMEZONE
END:VCALENDAR