BEGIN:VCALENDAR
VERSION:2.0
PRODID:-//wp-events-plugin.com//7.2.3.1//EN
TZID:America/New_York
X-WR-TIMEZONE:America/New_York
BEGIN:VEVENT
UID:17018@saintpanteleimonskete.com
DTSTART;TZID=America/New_York:20250515T191500
DTEND;TZID=America/New_York:20250515T203000
DTSTAMP:20250515T140922Z
URL:https://saintpanteleimonskete.com/events/live-class-2025-05-15/
SUMMARY:Live Class
DESCRIPTION:Today's Topic: Requirements of the Christian Life\nWith the ble
 ssing of our Bishop we've created a weekly class to help share the Orthodo
 x faith with Inquirers\, Catechumen\, and Communicants. While we live stre
 am these classes on YouTube as a resource for all\, we encourage anyone to
  attend the live filming. We typically have three members of clergy in att
 endance and the class is guided by a knowledgable and well-read member of 
 our Parish.\n\n&nbsp\;\nClass Panelists:\nModerator: Sean\n\nClergy: Fathe
 r Deacon Stefan\, Father Nathan\, Father Maximos.\n\n&nbsp\;\n\nIf you can
 not attend live\, please join us in our digital stream here: https://www.y
 outube.com/@saintmaximossociety
LOCATION:Saint Panteleimon Skete\, 7650 Lyons Rd\, Coconut Creek\, FL\, 330
 73\, Broward County\, United States
X-APPLE-STRUCTURED-LOCATION;VALUE=URI;X-ADDRESS=7650 Lyons Rd\, Coconut Cre
 ek\, FL\, 33073\, Broward County\, United States;X-APPLE-RADIUS=100;X-TITL
 E=Saint Panteleimon Skete:geo:0,0
END:VEVENT
BEGIN:VTIMEZONE
TZID:America/New_York
X-LIC-LOCATION:America/New_York
BEGIN:DAYLIGHT
DTSTART:20250309T030000
TZOFFSETFROM:-0500
TZOFFSETTO:-0400
TZNAME:EDT
END:DAYLIGHT
END:VTIMEZONE
END:VCALENDAR