BEGIN:VCALENDAR
VERSION:2.0
PRODID:-//wp-events-plugin.com//7.2.3.1//EN
TZID:America/New_York
X-WR-TIMEZONE:America/New_York
BEGIN:VEVENT
UID:17191@saintpanteleimonskete.com
DTSTART;TZID=America/New_York:20250726T140000
DTEND;TZID=America/New_York:20250726T160000
DTSTAMP:20250704T214357Z
URL:https://saintpanteleimonskete.com/events/holy-baptism-of-maria-and-jos
 eph/
SUMMARY:Holy Baptism of Maria and Joseph
DESCRIPTION:We will baptize Maria and Joseph at 2 pm. Join us to celebrate 
 this wonderful even in the life of our parish community. Stay afterward fo
 r fellowship and refreshments!!!
END:VEVENT
BEGIN:VTIMEZONE
TZID:America/New_York
X-LIC-LOCATION:America/New_York
BEGIN:DAYLIGHT
DTSTART:20250309T030000
TZOFFSETFROM:-0500
TZOFFSETTO:-0400
TZNAME:EDT
END:DAYLIGHT
END:VTIMEZONE
END:VCALENDAR