BEGIN:VCALENDAR
VERSION:2.0
PRODID:-//wp-events-plugin.com//7.2.3.1//EN
TZID:America/New_York
X-WR-TIMEZONE:America/New_York
BEGIN:VEVENT
UID:7874@saintpanteleimonskete.com
DTSTART;TZID=America/New_York:20250511T100000
DTEND;TZID=America/New_York:20250511T120000
DTSTAMP:20250423T041141Z
URL:https://saintpanteleimonskete.com/events/divine-liturgy-2025-05-11/
SUMMARY:Divine Liturgy
DESCRIPTION:Come and partake in the Divine Liturgy\, the central worship se
 rvice of the Orthodox Church\, where heaven meets earth in the Holy Euchar
 ist. Through hymns\, Scripture\, and sacrament\, we unite in the mystery o
 f Christ’s Body and Blood. All Orthodox faithful are welcome to receive\
 ; inquirers and Catechumen are invited to join us in prayer and reverence 
 as they learn more about our Church.
LOCATION:Saint Panteleimon Skete\, 7650 Lyons Rd\, Coconut Creek\, FL\, 330
 73\, Broward County\, United States
X-APPLE-STRUCTURED-LOCATION;VALUE=URI;X-ADDRESS=7650 Lyons Rd\, Coconut Cre
 ek\, FL\, 33073\, Broward County\, United States;X-APPLE-RADIUS=100;X-TITL
 E=Saint Panteleimon Skete:geo:0,0
END:VEVENT
BEGIN:VTIMEZONE
TZID:America/New_York
X-LIC-LOCATION:America/New_York
BEGIN:DAYLIGHT
DTSTART:20250309T030000
TZOFFSETFROM:-0500
TZOFFSETTO:-0400
TZNAME:EDT
END:DAYLIGHT
END:VTIMEZONE
END:VCALENDAR