BEGIN:VCALENDAR
VERSION:2.0
PRODID:-//wp-events-plugin.com//7.2.3.1//EN
TZID:America/New_York
X-WR-TIMEZONE:America/New_York
BEGIN:VEVENT
UID:20875@saintpanteleimonskete.com
DTSTART;TZID=America/New_York:20251026T090000
DTEND;TZID=America/New_York:20251026T114500
DTSTAMP:20260221T000718Z
URL:https://saintpanteleimonskete.com/events/divine-liturgy-2-2025-04-27-2
 025-05-04-2025-05-11-2025-05-18-2025-05-25-2025-06-01-2025-06-08-2025-06-1
 5-2025-06-22-2025-06-29-2025-07-06-2025-07-13-2025-07-20-2025-07-27-2025-0
 8-03-2025-19-2025-10-26/
SUMMARY:Divine Liturgy
DESCRIPTION:Join us each Sunday for Divine Liturgy\, the main Orthodox Chri
 stian service. All are welcome to attend.
LOCATION:Saint Panteleimon Skete\, 7650 Lyons Rd\, Coconut Creek\, FL\, 330
 73\, Broward County\, United States
X-APPLE-STRUCTURED-LOCATION;VALUE=URI;X-ADDRESS=7650 Lyons Rd\, Coconut Cre
 ek\, FL\, 33073\, Broward County\, United States;X-APPLE-RADIUS=100;X-TITL
 E=Saint Panteleimon Skete:geo:0,0
END:VEVENT
BEGIN:VTIMEZONE
TZID:America/New_York
X-LIC-LOCATION:America/New_York
BEGIN:DAYLIGHT
DTSTART:20250309T030000
TZOFFSETFROM:-0500
TZOFFSETTO:-0400
TZNAME:EDT
END:DAYLIGHT
END:VTIMEZONE
END:VCALENDAR